Workbook

Sheet Stakeholder Template
B1: See blog post on this guide
B2: Name or Group | C2: Role | D2: Predisposition | H2: Support | I2: Influence | J2: Anticipated Reaction & Issues | K2: Motivation, Drivers, Expectations of Exchange | L2: When does this stakeholder need to be involved in the change effort? | M2: Stakeholder Management Activities | N2: Who Delivers | O2: When due | P2: Status | AF2: Negative | AG2: Positive | AH2: Negative | AI2: Positive | AJ2: Negative | AK2: Positive
D3: Pulldown | AA3: Predisposition | AC3: Negative marks | AD3: Positive marks | AE3: Matrix side | AF3: High | AG3: High | AH3: Moderate | AI3: Moderate | AJ3: Low | AK3: Low
B4: Open Text | C4: Open Text | D4: - | E4: 0 | F4: + | G4: ++ | H4: Automatic | I4: Pulldown | J4: Open Text | K4: Open Text | L4: Open Text | M4: Open Text | N4: Open Text | O4: Open Text | P4: Open Text | AA4: X | AF4: Names | AG4: Names | AH4: Names | AI4: Names | AJ4: Names | AK4: Names
H5: =IF($AE5="Check","Check",IF(G5="X","Strong Positive",IF(F5="X","Positive",IF(E5="X","Neutral",IF(D5="X","Negative",""))))) | AC5: =COUNTIF(D5:E5,"X") -> 0 | AD5: =COUNTIF(F5:G5,"X") -> 0 | AE5: =IF(AC5*AD5>0,"Check",IF(AD5>0,"Positive",IF(AC5>0,"Negative",""))) | AF5: =IF(AND($B5<>"",$AE5=AF$2,$I5=AF$3),", "&$B5,"") | AG5: =IF(AND($B5<>"",$AE5=AG$2,$I5=AG$3),", "&$B5,"") | AH5: =IF(AND($B5<>"",$AE5=AH$2,$I5=AH$3),", "&$B5,"") | AI5: =IF(AND($B5<>"",$AE5=AI$2,$I5=AI$3),", "&$B5,"") | AJ5: =IF(AND($B5<>"",$AE5=AJ$2,$I5=AJ$3),", "&$B5,"") | AK5: =IF(AND($B5<>"",$AE5=AK$2,$I5=AK$3),", "&$B5,"")
H6: =IF($AE6="Check","Check",IF(G6="X","Strong Positive",IF(F6="X","Positive",IF(E6="X","Neutral",IF(D6="X","Negative",""))))) | AC6: =COUNTIF(D6:E6,"X") -> 0 | AD6: =COUNTIF(F6:G6,"X") -> 0 | AE6: =IF(AC6*AD6>0,"Check",IF(AD6>0,"Positive",IF(AC6>0,"Negative",""))) | AF6: =AF5&IF(AND($B6<>"",$AE6=AF$2,$I6=AF$3),", "&$B6,"") | AG6: =AG5&IF(AND($B6<>"",$AE6=AG$2,$I6=AG$3),", "&$B6,"") | AH6: =AH5&IF(AND($B6<>"",$AE6=AH$2,$I6=AH$3),", "&$B6,"") | AI6: =AI5&IF(AND($B6<>"",$AE6=AI$2,$I6=AI$3),", "&$B6,"") | AJ6: =AJ5&IF(AND($B6<>"",$AE6=AJ$2,$I6=AJ$3),", "&$B6,"") | AK6: =AK5&IF(AND($B6<>"",$AE6=AK$2,$I6=AK$3),", "&$B6,"")
H7: =IF($AE7="Check","Check",IF(G7="X","Strong Positive",IF(F7="X","Positive",IF(E7="X","Neutral",IF(D7="X","Negative",""))))) | AC7: =COUNTIF(D7:E7,"X") -> 0 | AD7: =COUNTIF(F7:G7,"X") -> 0 | AE7: =IF(AC7*AD7>0,"Check",IF(AD7>0,"Positive",IF(AC7>0,"Negative",""))) | AF7: =AF6&IF(AND($B7<>"",$AE7=AF$2,$I7=AF$3),", "&$B7,"") | AG7: =AG6&IF(AND($B7<>"",$AE7=AG$2,$I7=AG$3),", "&$B7,"") | AH7: =AH6&IF(AND($B7<>"",$AE7=AH$2,$I7=AH$3),", "&$B7,"") | AI7: =AI6&IF(AND($B7<>"",$AE7=AI$2,$I7=AI$3),", "&$B7,"") | AJ7: =AJ6&IF(AND($B7<>"",$AE7=AJ$2,$I7=AJ$3),", "&$B7,"") | AK7: =AK6&IF(AND($B7<>"",$AE7=AK$2,$I7=AK$3),", "&$B7,"")
H8: =IF($AE8="Check","Check",IF(G8="X","Strong Positive",IF(F8="X","Positive",IF(E8="X","Neutral",IF(D8="X","Negative",""))))) | AC8: =COUNTIF(D8:E8,"X") -> 0 | AD8: =COUNTIF(F8:G8,"X") -> 0 | AE8: =IF(AC8*AD8>0,"Check",IF(AD8>0,"Positive",IF(AC8>0,"Negative",""))) | AF8: =AF7&IF(AND($B8<>"",$AE8=AF$2,$I8=AF$3),", "&$B8,"") | AG8: =AG7&IF(AND($B8<>"",$AE8=AG$2,$I8=AG$3),", "&$B8,"") | AH8: =AH7&IF(AND($B8<>"",$AE8=AH$2,$I8=AH$3),", "&$B8,"") | AI8: =AI7&IF(AND($B8<>"",$AE8=AI$2,$I8=AI$3),", "&$B8,"") | AJ8: =AJ7&IF(AND($B8<>"",$AE8=AJ$2,$I8=AJ$3),", "&$B8,"") | AK8: =AK7&IF(AND($B8<>"",$AE8=AK$2,$I8=AK$3),", "&$B8,"")
H9: =IF($AE9="Check","Check",IF(G9="X","Strong Positive",IF(F9="X","Positive",IF(E9="X","Neutral",IF(D9="X","Negative",""))))) | AC9: =COUNTIF(D9:E9,"X") -> 0 | AD9: =COUNTIF(F9:G9,"X") -> 0 | AE9: =IF(AC9*AD9>0,"Check",IF(AD9>0,"Positive",IF(AC9>0,"Negative",""))) | AF9: =AF8&IF(AND($B9<>"",$AE9=AF$2,$I9=AF$3),", "&$B9,"") | AG9: =AG8&IF(AND($B9<>"",$AE9=AG$2,$I9=AG$3),", "&$B9,"") | AH9: =AH8&IF(AND($B9<>"",$AE9=AH$2,$I9=AH$3),", "&$B9,"") | AI9: =AI8&IF(AND($B9<>"",$AE9=AI$2,$I9=AI$3),", "&$B9,"") | AJ9: =AJ8&IF(AND($B9<>"",$AE9=AJ$2,$I9=AJ$3),", "&$B9,"") | AK9: =AK8&IF(AND($B9<>"",$AE9=AK$2,$I9=AK$3),", "&$B9,"")
H10: =IF($AE10="Check","Check",IF(G10="X","Strong Positive",IF(F10="X","Positive",IF(E10="X","Neutral",IF(D10="X","Negative",""))))) | Z10: Influence | AC10: =COUNTIF(D10:E10,"X") -> 0 | AD10: =COUNTIF(F10:G10,"X") -> 0 | AE10: =IF(AC10*AD10>0,"Check",IF(AD10>0,"Positive",IF(AC10>0,"Negative",""))) | AF10: =AF9&IF(AND($B10<>"",$AE10=AF$2,$I10=AF$3),", "&$B10,"") | AG10: =AG9&IF(AND($B10<>"",$AE10=AG$2,$I10=AG$3),", "&$B10,"") | AH10: =AH9&IF(AND($B10<>"",$AE10=AH$2,$I10=AH$3),", "&$B10,"") | AI10: =AI9&IF(AND($B10<>"",$AE10=AI$2,$I10=AI$3),", "&$B10,"") | AJ10: =AJ9&IF(AND($B10<>"",$AE10=AJ$2,$I10=AJ$3),", "&$B10,"") | AK10: =AK9&IF(AND($B10<>"",$AE10=AK$2,$I10=AK$3),", "&$B10,"")
H11: =IF($AE11="Check","Check",IF(G11="X","Strong Positive",IF(F11="X","Positive",IF(E11="X","Neutral",IF(D11="X","Negative",""))))) | Z11: High | AC11: =COUNTIF(D11:E11,"X") -> 0 | AD11: =COUNTIF(F11:G11,"X") -> 0 | AE11: =IF(AC11*AD11>0,"Check",IF(AD11>0,"Positive",IF(AC11>0,"Negative",""))) | AF11: =AF10&IF(AND($B11<>"",$AE11=AF$2,$I11=AF$3),", "&$B11,"") | AG11: =AG10&IF(AND($B11<>"",$AE11=AG$2,$I11=AG$3),", "&$B11,"") | AH11: =AH10&IF(AND($B11<>"",$AE11=AH$2,$I11=AH$3),", "&$B11,"") | AI11: =AI10&IF(AND($B11<>"",$AE11=AI$2,$I11=AI$3),", "&$B11,"") | AJ11: =AJ10&IF(AND($B11<>"",$AE11=AJ$2,$I11=AJ$3),", "&$B11,"") | AK11: =AK10&IF(AND($B11<>"",$AE11=AK$2,$I11=AK$3),", "&$B11,"")
H12: =IF($AE12="Check","Check",IF(G12="X","Strong Positive",IF(F12="X","Positive",IF(E12="X","Neutral",IF(D12="X","Negative",""))))) | Z12: Moderate | AC12: =COUNTIF(D12:E12,"X") -> 0 | AD12: =COUNTIF(F12:G12,"X") -> 0 | AE12: =IF(AC12*AD12>0,"Check",IF(AD12>0,"Positive",IF(AC12>0,"Negative",""))) | AF12: =AF11&IF(AND($B12<>"",$AE12=AF$2,$I12=AF$3),", "&$B12,"") | AG12: =AG11&IF(AND($B12<>"",$AE12=AG$2,$I12=AG$3),", "&$B12,"") | AH12: =AH11&IF(AND($B12<>"",$AE12=AH$2,$I12=AH$3),", "&$B12,"") | AI12: =AI11&IF(AND($B12<>"",$AE12=AI$2,$I12=AI$3),", "&$B12,"") | AJ12: =AJ11&IF(AND($B12<>"",$AE12=AJ$2,$I12=AJ$3),", "&$B12,"") | AK12: =AK11&IF(AND($B12<>"",$AE12=AK$2,$I12=AK$3),", "&$B12,"")
H13: =IF($AE13="Check","Check",IF(G13="X","Strong Positive",IF(F13="X","Positive",IF(E13="X","Neutral",IF(D13="X","Negative",""))))) | Z13: Low | AC13: =COUNTIF(D13:E13,"X") -> 0 | AD13: =COUNTIF(F13:G13,"X") -> 0 | AE13: =IF(AC13*AD13>0,"Check",IF(AD13>0,"Positive",IF(AC13>0,"Negative",""))) | AF13: =AF12&IF(AND($B13<>"",$AE13=AF$2,$I13=AF$3),", "&$B13,"") | AG13: =AG12&IF(AND($B13<>"",$AE13=AG$2,$I13=AG$3),", "&$B13,"") | AH13: =AH12&IF(AND($B13<>"",$AE13=AH$2,$I13=AH$3),", "&$B13,"") | AI13: =AI12&IF(AND($B13<>"",$AE13=AI$2,$I13=AI$3),", "&$B13,"") | AJ13: =AJ12&IF(AND($B13<>"",$AE13=AJ$2,$I13=AJ$3),", "&$B13,"") | AK13: =AK12&IF(AND($B13<>"",$AE13=AK$2,$I13=AK$3),", "&$B13,"")
H14: =IF($AE14="Check","Check",IF(G14="X","Strong Positive",IF(F14="X","Positive",IF(E14="X","Neutral",IF(D14="X","Negative",""))))) | AC14: =COUNTIF(D14:E14,"X") -> 0 | AD14: =COUNTIF(F14:G14,"X") -> 0 | AE14: =IF(AC14*AD14>0,"Check",IF(AD14>0,"Positive",IF(AC14>0,"Negative",""))) | AF14: =AF13&IF(AND($B14<>"",$AE14=AF$2,$I14=AF$3),", "&$B14,"") | AG14: =AG13&IF(AND($B14<>"",$AE14=AG$2,$I14=AG$3),", "&$B14,"") | AH14: =AH13&IF(AND($B14<>"",$AE14=AH$2,$I14=AH$3),", "&$B14,"") | AI14: =AI13&IF(AND($B14<>"",$AE14=AI$2,$I14=AI$3),", "&$B14,"") | AJ14: =AJ13&IF(AND($B14<>"",$AE14=AJ$2,$I14=AJ$3),", "&$B14,"") | AK14: =AK13&IF(AND($B14<>"",$AE14=AK$2,$I14=AK$3),", "&$B14,"")
H15: =IF($AE15="Check","Check",IF(G15="X","Strong Positive",IF(F15="X","Positive",IF(E15="X","Neutral",IF(D15="X","Negative",""))))) | AC15: =COUNTIF(D15:E15,"X") -> 0 | AD15: =COUNTIF(F15:G15,"X") -> 0 | AE15: =IF(AC15*AD15>0,"Check",IF(AD15>0,"Positive",IF(AC15>0,"Negative",""))) | AF15: =AF14&IF(AND($B15<>"",$AE15=AF$2,$I15=AF$3),", "&$B15,"") | AG15: =AG14&IF(AND($B15<>"",$AE15=AG$2,$I15=AG$3),", "&$B15,"") | AH15: =AH14&IF(AND($B15<>"",$AE15=AH$2,$I15=AH$3),", "&$B15,"") | AI15: =AI14&IF(AND($B15<>"",$AE15=AI$2,$I15=AI$3),", "&$B15,"") | AJ15: =AJ14&IF(AND($B15<>"",$AE15=AJ$2,$I15=AJ$3),", "&$B15,"") | AK15: =AK14&IF(AND($B15<>"",$AE15=AK$2,$I15=AK$3),", "&$B15,"")
H16: =IF($AE16="Check","Check",IF(G16="X","Strong Positive",IF(F16="X","Positive",IF(E16="X","Neutral",IF(D16="X","Negative",""))))) | AC16: =COUNTIF(D16:E16,"X") -> 0 | AD16: =COUNTIF(F16:G16,"X") -> 0 | AE16: =IF(AC16*AD16>0,"Check",IF(AD16>0,"Positive",IF(AC16>0,"Negative",""))) | AF16: =AF15&IF(AND($B16<>"",$AE16=AF$2,$I16=AF$3),", "&$B16,"") | AG16: =AG15&IF(AND($B16<>"",$AE16=AG$2,$I16=AG$3),", "&$B16,"") | AH16: =AH15&IF(AND($B16<>"",$AE16=AH$2,$I16=AH$3),", "&$B16,"") | AI16: =AI15&IF(AND($B16<>"",$AE16=AI$2,$I16=AI$3),", "&$B16,"") | AJ16: =AJ15&IF(AND($B16<>"",$AE16=AJ$2,$I16=AJ$3),", "&$B16,"") | AK16: =AK15&IF(AND($B16<>"",$AE16=AK$2,$I16=AK$3),", "&$B16,"")
H17: =IF($AE17="Check","Check",IF(G17="X","Strong Positive",IF(F17="X","Positive",IF(E17="X","Neutral",IF(D17="X","Negative",""))))) | AC17: =COUNTIF(D17:E17,"X") -> 0 | AD17: =COUNTIF(F17:G17,"X") -> 0 | AE17: =IF(AC17*AD17>0,"Check",IF(AD17>0,"Positive",IF(AC17>0,"Negative",""))) | AF17: =AF16&IF(AND($B17<>"",$AE17=AF$2,$I17=AF$3),", "&$B17,"") | AG17: =AG16&IF(AND($B17<>"",$AE17=AG$2,$I17=AG$3),", "&$B17,"") | AH17: =AH16&IF(AND($B17<>"",$AE17=AH$2,$I17=AH$3),", "&$B17,"") | AI17: =AI16&IF(AND($B17<>"",$AE17=AI$2,$I17=AI$3),", "&$B17,"") | AJ17: =AJ16&IF(AND($B17<>"",$AE17=AJ$2,$I17=AJ$3),", "&$B17,"") | AK17: =AK16&IF(AND($B17<>"",$AE17=AK$2,$I17=AK$3),", "&$B17,"")
H18: =IF($AE18="Check","Check",IF(G18="X","Strong Positive",IF(F18="X","Positive",IF(E18="X","Neutral",IF(D18="X","Negative",""))))) | AC18: =COUNTIF(D18:E18,"X") -> 0 | AD18: =COUNTIF(F18:G18,"X") -> 0 | AE18: =IF(AC18*AD18>0,"Check",IF(AD18>0,"Positive",IF(AC18>0,"Negative",""))) | AF18: =AF17&IF(AND($B18<>"",$AE18=AF$2,$I18=AF$3),", "&$B18,"") | AG18: =AG17&IF(AND($B18<>"",$AE18=AG$2,$I18=AG$3),", "&$B18,"") | AH18: =AH17&IF(AND($B18<>"",$AE18=AH$2,$I18=AH$3),", "&$B18,"") | AI18: =AI17&IF(AND($B18<>"",$AE18=AI$2,$I18=AI$3),", "&$B18,"") | AJ18: =AJ17&IF(AND($B18<>"",$AE18=AJ$2,$I18=AJ$3),", "&$B18,"") | AK18: =AK17&IF(AND($B18<>"",$AE18=AK$2,$I18=AK$3),", "&$B18,"")
H19: =IF($AE19="Check","Check",IF(G19="X","Strong Positive",IF(F19="X","Positive",IF(E19="X","Neutral",IF(D19="X","Negative",""))))) | AC19: =COUNTIF(D19:E19,"X") -> 0 | AD19: =COUNTIF(F19:G19,"X") -> 0 | AE19: =IF(AC19*AD19>0,"Check",IF(AD19>0,"Positive",IF(AC19>0,"Negative",""))) | AF19: =AF18&IF(AND($B19<>"",$AE19=AF$2,$I19=AF$3),", "&$B19,"") | AG19: =AG18&IF(AND($B19<>"",$AE19=AG$2,$I19=AG$3),", "&$B19,"") | AH19: =AH18&IF(AND($B19<>"",$AE19=AH$2,$I19=AH$3),", "&$B19,"") | AI19: =AI18&IF(AND($B19<>"",$AE19=AI$2,$I19=AI$3),", "&$B19,"") | AJ19: =AJ18&IF(AND($B19<>"",$AE19=AJ$2,$I19=AJ$3),", "&$B19,"") | AK19: =AK18&IF(AND($B19<>"",$AE19=AK$2,$I19=AK$3),", "&$B19,"")
H20: =IF($AE20="Check","Check",IF(G20="X","Strong Positive",IF(F20="X","Positive",IF(E20="X","Neutral",IF(D20="X","Negative",""))))) | AC20: =COUNTIF(D20:E20,"X") -> 0 | AD20: =COUNTIF(F20:G20,"X") -> 0 | AE20: =IF(AC20*AD20>0,"Check",IF(AD20>0,"Positive",IF(AC20>0,"Negative",""))) | AF20: =AF19&IF(AND($B20<>"",$AE20=AF$2,$I20=AF$3),", "&$B20,"") | AG20: =AG19&IF(AND($B20<>"",$AE20=AG$2,$I20=AG$3),", "&$B20,"") | AH20: =AH19&IF(AND($B20<>"",$AE20=AH$2,$I20=AH$3),", "&$B20,"") | AI20: =AI19&IF(AND($B20<>"",$AE20=AI$2,$I20=AI$3),", "&$B20,"") | AJ20: =AJ19&IF(AND($B20<>"",$AE20=AJ$2,$I20=AJ$3),", "&$B20,"") | AK20: =AK19&IF(AND($B20<>"",$AE20=AK$2,$I20=AK$3),", "&$B20,"")
H21: =IF($AE21="Check","Check",IF(G21="X","Strong Positive",IF(F21="X","Positive",IF(E21="X","Neutral",IF(D21="X","Negative",""))))) | AC21: =COUNTIF(D21:E21,"X") -> 0 | AD21: =COUNTIF(F21:G21,"X") -> 0 | AE21: =IF(AC21*AD21>0,"Check",IF(AD21>0,"Positive",IF(AC21>0,"Negative",""))) | AF21: =AF20&IF(AND($B21<>"",$AE21=AF$2,$I21=AF$3),", "&$B21,"") | AG21: =AG20&IF(AND($B21<>"",$AE21=AG$2,$I21=AG$3),", "&$B21,"") | AH21: =AH20&IF(AND($B21<>"",$AE21=AH$2,$I21=AH$3),", "&$B21,"") | AI21: =AI20&IF(AND($B21<>"",$AE21=AI$2,$I21=AI$3),", "&$B21,"") | AJ21: =AJ20&IF(AND($B21<>"",$AE21=AJ$2,$I21=AJ$3),", "&$B21,"") | AK21: =AK20&IF(AND($B21<>"",$AE21=AK$2,$I21=AK$3),", "&$B21,"")
H22: =IF($AE22="Check","Check",IF(G22="X","Strong Positive",IF(F22="X","Positive",IF(E22="X","Neutral",IF(D22="X","Negative",""))))) | AC22: =COUNTIF(D22:E22,"X") -> 0 | AD22: =COUNTIF(F22:G22,"X") -> 0 | AE22: =IF(AC22*AD22>0,"Check",IF(AD22>0,"Positive",IF(AC22>0,"Negative",""))) | AF22: =AF21&IF(AND($B22<>"",$AE22=AF$2,$I22=AF$3),", "&$B22,"") | AG22: =AG21&IF(AND($B22<>"",$AE22=AG$2,$I22=AG$3),", "&$B22,"") | AH22: =AH21&IF(AND($B22<>"",$AE22=AH$2,$I22=AH$3),", "&$B22,"") | AI22: =AI21&IF(AND($B22<>"",$AE22=AI$2,$I22=AI$3),", "&$B22,"") | AJ22: =AJ21&IF(AND($B22<>"",$AE22=AJ$2,$I22=AJ$3),", "&$B22,"") | AK22: =AK21&IF(AND($B22<>"",$AE22=AK$2,$I22=AK$3),", "&$B22,"")
H23: =IF($AE23="Check","Check",IF(G23="X","Strong Positive",IF(F23="X","Positive",IF(E23="X","Neutral",IF(D23="X","Negative",""))))) | AC23: =COUNTIF(D23:E23,"X") -> 0 | AD23: =COUNTIF(F23:G23,"X") -> 0 | AE23: =IF(AC23*AD23>0,"Check",IF(AD23>0,"Positive",IF(AC23>0,"Negative",""))) | AF23: =AF22&IF(AND($B23<>"",$AE23=AF$2,$I23=AF$3),", "&$B23,"") | AG23: =AG22&IF(AND($B23<>"",$AE23=AG$2,$I23=AG$3),", "&$B23,"") | AH23: =AH22&IF(AND($B23<>"",$AE23=AH$2,$I23=AH$3),", "&$B23,"") | AI23: =AI22&IF(AND($B23<>"",$AE23=AI$2,$I23=AI$3),", "&$B23,"") | AJ23: =AJ22&IF(AND($B23<>"",$AE23=AJ$2,$I23=AJ$3),", "&$B23,"") | AK23: =AK22&IF(AND($B23<>"",$AE23=AK$2,$I23=AK$3),", "&$B23,"")
H24: =IF($AE24="Check","Check",IF(G24="X","Strong Positive",IF(F24="X","Positive",IF(E24="X","Neutral",IF(D24="X","Negative",""))))) | AC24: =COUNTIF(D24:E24,"X") -> 0 | AD24: =COUNTIF(F24:G24,"X") -> 0 | AE24: =IF(AC24*AD24>0,"Check",IF(AD24>0,"Positive",IF(AC24>0,"Negative",""))) | AF24: =AF23&IF(AND($B24<>"",$AE24=AF$2,$I24=AF$3),", "&$B24,"") | AG24: =AG23&IF(AND($B24<>"",$AE24=AG$2,$I24=AG$3),", "&$B24,"") | AH24: =AH23&IF(AND($B24<>"",$AE24=AH$2,$I24=AH$3),", "&$B24,"") | AI24: =AI23&IF(AND($B24<>"",$AE24=AI$2,$I24=AI$3),", "&$B24,"") | AJ24: =AJ23&IF(AND($B24<>"",$AE24=AJ$2,$I24=AJ$3),", "&$B24,"") | AK24: =AK23&IF(AND($B24<>"",$AE24=AK$2,$I24=AK$3),", "&$B24,"")
H25: =IF($AE25="Check","Check",IF(G25="X","Strong Positive",IF(F25="X","Positive",IF(E25="X","Neutral",IF(D25="X","Negative",""))))) | AC25: =COUNTIF(D25:E25,"X") -> 0 | AD25: =COUNTIF(F25:G25,"X") -> 0 | AE25: =IF(AC25*AD25>0,"Check",IF(AD25>0,"Positive",IF(AC25>0,"Negative",""))) | AF25: =AF24&IF(AND($B25<>"",$AE25=AF$2,$I25=AF$3),", "&$B25,"") | AG25: =AG24&IF(AND($B25<>"",$AE25=AG$2,$I25=AG$3),", "&$B25,"") | AH25: =AH24&IF(AND($B25<>"",$AE25=AH$2,$I25=AH$3),", "&$B25,"") | AI25: =AI24&IF(AND($B25<>"",$AE25=AI$2,$I25=AI$3),", "&$B25,"") | AJ25: =AJ24&IF(AND($B25<>"",$AE25=AJ$2,$I25=AJ$3),", "&$B25,"") | AK25: =AK24&IF(AND($B25<>"",$AE25=AK$2,$I25=AK$3),", "&$B25,"")
... H37: =IF($AE37="Check","Check",IF(G37="X","Strong Positive",IF(F37="X","Positive",IF(E37="X","Neutral",IF(D37="X","Negative",""))))) | AC37: =COUNTIF(D37:E37,"X") -> 0 | AD37: =COUNTIF(F37:G37,"X") -> 0 | AE37: =IF(AC37*AD37>0,"Check",IF(AD37>0,"Positive",IF(AC37>0,"Negative",""))) | AF37: =AF36&IF(AND($B37<>"",$AE37=AF$2,$I37=AF$3),", "&$B37,"") | AG37: =AG36&IF(AND($B37<>"",$AE37=AG$2,$I37=AG$3),", "&$B37,"") | AH37: =AH36&IF(AND($B37<>"",$AE37=AH$2,$I37=AH$3),", "&$B37,"") | AI37: =AI36&IF(AND($B37<>"",$AE37=AI$2,$I37=AI$3),", "&$B37,"") | AJ37: =AJ36&IF(AND($B37<>"",$AE37=AJ$2,$I37=AJ$3),", "&$B37,"") | AK37: =AK36&IF(AND($B37<>"",$AE37=AK$2,$I37=AK$3),", "&$B37,"")
B38: Open Text | C38: Predisposition sum | D38: - | E38: 0 | F38: + | G38: ++ | H38: Automatic | I38: Pulldown | J38: Open Text | K38: Open Text | L38: Open Text | M38: Open Text | N38: Open Text | O38: Open Text | P38: Open Text
D39: =COUNTIF(D5:D37,"*") -> 0 | E39: =COUNTIF(E5:E37,"*") -> 0 | F39: =COUNTIF(F5:F37,"*") -> 0 | G39: =COUNTIF(G5:G37,"*") -> 0

Sheet Current-State Matrix
A2: INFLUENCE | C2: High | D2: ="Negative Support/High Influence"&CHAR(10)&"Commit"&IF('Stakeholder Template'!$AF$37="","",CHAR(10)&MID('Stakeholder Template'!$AF$37,3,9999)) -> Negative Support/High Influence Commit | E2: ="Positive Support/High Influence"&CHAR(10)&"Leverage"&IF('Stakeholder Template'!$AG$37="","",CHAR(10)&MID('Stakeholder Template'!$AG$37,3,9999)) -> Positive Support/High Influence Leverage
C3: Moderate | D3: ="Negative Support/Moderate Influence"&CHAR(10)&"Invest"&IF('Stakeholder Template'!$AH$37="","",CHAR(10)&MID('Stakeholder Template'!$AH$37,3,9999)) -> Negative Support/Moderate Influence Invest | E3: ="Positive Support/Moderate Influence"&CHAR(10)&"Plan"&IF('Stakeholder Template'!$AI$37="","",CHAR(10)&MID('Stakeholder Template'!$AI$37,3,9999)) -> Positive Support/Moderate Influence Plan
C5: Low | D5: ="Negative Support/Low Influence"&CHAR(10)&"Monitor"&IF('Stakeholder Template'!$AJ$37="","",CHAR(10)&MID('Stakeholder Template'!$AJ$37,3,9999)) -> Negative Support/Low Influence Monitor | E5: ="Positive Support/Low Influence"&CHAR(10)&"Maintain"&IF('Stakeholder Template'!$AK$37="","",CHAR(10)&MID('Stakeholder Template'!$AK$37,3,9999)) -> Positive Support/Low Influence Maintain
D6: Negative (-, 0) | E6: Positive (+, ++)
D8: SUPPORT

Sheet Future-State Matrix
A2: INFLUENCE | C2: High | D2: Negative Support/High Influence Commit | E2: Positive Support/High Influence Leverage
C3: Moderate | D3: Negative Support/Moderate Influence Invest | E3: Positive Support/Moderate Influence Plan
C5: Low | D5: Negative Support/Low Influence Monitor | E5: Positive Support/Low Influence Maintain
D6: Negative (-, 0) | E6: Positive (+, ++)
D8: SUPPORT
